BEGIN:VCALENDAR
VERSION:2.0
PRODID:icalendar-ruby
CALSCALE:GREGORIAN
METHOD:PUBLISH
BEGIN:VEVENT
DTSTAMP:20260419T125344Z
UID:33-3706416@saintpauls.online
DTSTART:20230922T160000Z
DTEND:20230922T170000Z
CLASS:PUBLIC
CREATED:20260419T075640
DESCRIPTION:St. Paul's is proud to host the High Noon AA meeting\, the long
 est-running meeting in Mount Pleasant. These people are great. Walk right 
 in. Healing can happen. Join others struggling with alcoholism. Park in th
 e gravel parking lot behind the church. The entrance is off Queen Street. 
 Enter the church through the entrance closest to Queen Street (the Kitchen
 ). The meetings are held in the Fellowship Hall/Historic Chapel up the sta
 irs from the coffee machine.
LAST-MODIFIED:20260419T075640
LOCATION:Fellowship Hall/Historic Chapel
SUMMARY:Alcoholics Anonymous (AA)
URL;VALUE=URI:https://www.saintpauls.online/events/alcoholics-anonymous-aa/
 2023-09-22
ATTACH;FILENAME=AA-Image.jpg;FMTTYPE=image/jpeg:https://dq5pwpg1q8ru0.cloud
 front.net/2022/05/03/10/41/29/f85097e6-389c-43c2-b87e-2e53759cb957/AA-Imag
 e.jpg
END:VEVENT
END:VCALENDAR
