BEGIN:VCALENDAR
VERSION:2.0
PRODID:icalendar-ruby
CALSCALE:GREGORIAN
METHOD:PUBLISH
BEGIN:VEVENT
DTSTAMP:20260423T015802Z
UID:40-3766873@saintpauls.online
DTSTART:20261006T213000Z
DTEND:20261006T223000Z
CLASS:PUBLIC
CREATED:20260422T190922
DESCRIPTION:These people are great. Walk right in. Healing can happen. Join
  others struggling with alcoholism. Park in the gravel parking lot behind 
 the church. The entrance is off Queen Street. Enter the church through the
  entrance closest to Queen Street (the Kitchen). The meetings are held in 
 the Fellowship Hall/Historic Chapel up the stairs from the coffee machine.
LAST-MODIFIED:20260422T190922
LOCATION:Fellowship Hall/Historic Chapel
SUMMARY:Alcoholics Anonymous (AA)
URL;VALUE=URI:https://www.saintpauls.online/events/alcoholics-anonymous-aa-
 -40/2026-10-06
ATTACH;FILENAME=AA-Image.jpg;FMTTYPE=image/jpeg:https://dq5pwpg1q8ru0.cloud
 front.net/2022/05/04/19/00/39/62bcb747-0b8b-4865-9971-8533e88baf5a/AA-Imag
 e.jpg
END:VEVENT
END:VCALENDAR
